BEGIN:VCALENDAR
VERSION:2.0
PRODID:-//Westchester County Democratic Committee - ECPv6.15.20//NONSGML v1.0//EN
CALSCALE:GREGORIAN
METHOD:PUBLISH
X-WR-CALNAME:Westchester County Democratic Committee
X-ORIGINAL-URL:https://westchesterdems.org
X-WR-CALDESC:Events for Westchester County Democratic Committee
REFRESH-INTERVAL;VALUE=DURATION:PT1H
X-Robots-Tag:noindex
X-PUBLISHED-TTL:PT1H
BEGIN:VTIMEZONE
TZID:America/New_York
BEGIN:DAYLIGHT
TZOFFSETFROM:-0500
TZOFFSETTO:-0400
TZNAME:EDT
DTSTART:20250309T070000
END:DAYLIGHT
BEGIN:STANDARD
TZOFFSETFROM:-0400
TZOFFSETTO:-0500
TZNAME:EST
DTSTART:20251102T060000
END:STANDARD
BEGIN:DAYLIGHT
TZOFFSETFROM:-0500
TZOFFSETTO:-0400
TZNAME:EDT
DTSTART:20260308T070000
END:DAYLIGHT
BEGIN:STANDARD
TZOFFSETFROM:-0400
TZOFFSETTO:-0500
TZNAME:EST
DTSTART:20261101T060000
END:STANDARD
BEGIN:DAYLIGHT
TZOFFSETFROM:-0500
TZOFFSETTO:-0400
TZNAME:EDT
DTSTART:20270314T070000
END:DAYLIGHT
BEGIN:STANDARD
TZOFFSETFROM:-0400
TZOFFSETTO:-0500
TZNAME:EST
DTSTART:20271107T060000
END:STANDARD
END:VTIMEZONE
BEGIN:VEVENT
DTSTART;TZID=America/New_York:20260503T130000
DTEND;TZID=America/New_York:20260503T170000
DTSTAMP:20260421T141726
CREATED:20260419T224539Z
LAST-MODIFIED:20260419T224539Z
UID:15109-1777813200-1777827600@westchesterdems.org
SUMMARY:Black Dems Event Celebrating Hon. Terry Clements
DESCRIPTION:
URL:https://westchesterdems.org/westchester-democrats-events/black-dems-event-celebrating-hon-terry-clements/
END:VEVENT
BEGIN:VEVENT
DTSTART;TZID=America/New_York:20260503T140000
DTEND;TZID=America/New_York:20260503T153000
DTSTAMP:20260421T141726
CREATED:20260416T021111Z
LAST-MODIFIED:20260416T021111Z
UID:15093-1777816800-1777822200@westchesterdems.org
SUMMARY:May 3rd Reception Supporting Anthony Nicodemo
DESCRIPTION:
URL:https://westchesterdems.org/westchester-democrats-events/may-3rd-reception-supporting-anthony-nicodemo/
END:VEVENT
BEGIN:VEVENT
DTSTART;TZID=America/New_York:20260507T173000
DTEND;TZID=America/New_York:20260507T193000
DTSTAMP:20260421T141726
CREATED:20260416T001902Z
LAST-MODIFIED:20260416T003043Z
UID:15083-1778175000-1778182200@westchesterdems.org
SUMMARY:Spring Evening in support of Hon. George Fufidio for NYS Supreme Court
DESCRIPTION:Thursday\, May 7\, 2026 at 5:30 pm – Spring Evening in support of Judge George Fufidio for NYS Supreme Court
URL:https://westchesterdems.org/westchester-democrats-events/spring-evening-in-support-of-hon-george-fufidio-for-nys-supreme-court/
END:VEVENT
BEGIN:VEVENT
DTSTART;TZID=America/New_York:20260507T183000
DTEND;TZID=America/New_York:20260507T200000
DTSTAMP:20260421T141726
CREATED:20260419T225302Z
LAST-MODIFIED:20260419T225302Z
UID:15112-1778178600-1778184000@westchesterdems.org
SUMMARY:Event in Scarsdale - Fundraiser for TX Gubernatorial Candidate Gina Hinojosa
DESCRIPTION:5.7.26 Scarsdale Event Invite – Gina for TX (1) (1)
URL:https://westchesterdems.org/westchester-democrats-events/event-in-scarsdale-fundraiser-for-tx-gubernatorial-candidate-gina-hinojosa/
END:VEVENT
BEGIN:VEVENT
DTSTART;TZID=America/New_York:20260509T130000
DTEND;TZID=America/New_York:20260509T150000
DTSTAMP:20260421T141726
CREATED:20260416T000623Z
LAST-MODIFIED:20260416T000623Z
UID:15077-1778331600-1778338800@westchesterdems.org
SUMMARY:Westchester Asian American Dems Annual Asian Heritage Celebration
DESCRIPTION:
URL:https://westchesterdems.org/westchester-democrats-events/westchester-asian-american-dems-annual-asian-heritage-celebration/
END:VEVENT
BEGIN:VEVENT
DTSTART;TZID=America/New_York:20260517T120000
DTEND;TZID=America/New_York:20260517T143000
DTSTAMP:20260421T141726
CREATED:20260318T003118Z
LAST-MODIFIED:20260416T003406Z
UID:15064-1779019200-1779028200@westchesterdems.org
SUMMARY:WCDC Spring Fundraiser Brunch featuring Hon. Letitia James
DESCRIPTION:CV Rich Mansion\, White Plains\, Ny
URL:https://westchesterdems.org/westchester-democrats-events/wcdc-spring-fundraiser-brunch/
END:VEVENT
BEGIN:VEVENT
DTSTART;TZID=America/New_York:20260517T180000
DTEND;TZID=America/New_York:20260517T200000
DTSTAMP:20260421T141726
CREATED:20260419T224234Z
LAST-MODIFIED:20260419T224234Z
UID:15106-1779040800-1779048000@westchesterdems.org
SUMMARY:Memorial Service for Congressman Eliot Engel
DESCRIPTION:
URL:https://westchesterdems.org/westchester-democrats-events/memorial-service-for-congressman-eliot-engel/
END:VEVENT
BEGIN:VEVENT
DTSTART;VALUE=DATE:20260519
DTEND;VALUE=DATE:20260520
DTSTAMP:20260421T141726
CREATED:20251216T205302Z
LAST-MODIFIED:20251216T205302Z
UID:14945-1779148800-1779235199@westchesterdems.org
SUMMARY:NYS School Board Elections & Budget Vote
DESCRIPTION:2026 School Board Election – Critical Dates\n \nPlease contact applicable local school district for voting locations and hours.
URL:https://westchesterdems.org/westchester-democrats-events/nys-school-board-elections-budget-vote/
END:VEVENT
BEGIN:VEVENT
DTSTART;TZID=America/New_York:20260521T190000
DTEND;TZID=America/New_York:20260521T210000
DTSTAMP:20260421T141726
CREATED:20260416T022047Z
LAST-MODIFIED:20260416T022047Z
UID:15098-1779390000-1779397200@westchesterdems.org
SUMMARY:Bronxville Dems with Lauren Leader in conversation with Lauren Iannotti
DESCRIPTION:
URL:https://westchesterdems.org/westchester-democrats-events/bronxville-dems-with-lauren-leader-in-conversation-with-lauren-iannotti/
END:VEVENT
BEGIN:VEVENT
DTSTART;TZID=America/New_York:20260527T180000
DTEND;TZID=America/New_York:20260527T200000
DTSTAMP:20260421T141726
CREATED:20260419T015007Z
LAST-MODIFIED:20260419T015007Z
UID:15104-1779904800-1779912000@westchesterdems.org
SUMMARY:Save the Date - Ken Jenkins Birthday BBQ!
DESCRIPTION:Wednesday\, May 27th: Ken Jenkins Birthday BBQ \nCV Rich Mansion  \nInvitation to follow
URL:https://westchesterdems.org/westchester-democrats-events/save-the-date-ken-jenkins-birthday-bbq/
END:VEVENT
BEGIN:VEVENT
DTSTART;TZID=America/New_York:20260531T150000
DTEND;TZID=America/New_York:20260531T180000
DTSTAMP:20260421T141726
CREATED:20260404T135947Z
LAST-MODIFIED:20260404T135947Z
UID:15070-1780239600-1780250400@westchesterdems.org
SUMMARY:Hastings Dems Fundraiser - Save the Date
DESCRIPTION:Please join us for the Hastings-on-Hudson Democratic Committee’s Fundraiser \nSunday\, May 31\, 2026 \nLocation and other details to follow
URL:https://westchesterdems.org/westchester-democrats-events/hastings-dems-fundraiser-save-the-date/
END:VEVENT
END:VCALENDAR