BEGIN:VCALENDAR
VERSION:2.0
PRODID:-//Westchester County Democratic Committee - ECPv6.15.20//NONSGML v1.0//EN
CALSCALE:GREGORIAN
METHOD:PUBLISH
X-WR-CALNAME:Westchester County Democratic Committee
X-ORIGINAL-URL:https://westchesterdems.org
X-WR-CALDESC:Events for Westchester County Democratic Committee
REFRESH-INTERVAL;VALUE=DURATION:PT1H
X-Robots-Tag:noindex
X-PUBLISHED-TTL:PT1H
BEGIN:VTIMEZONE
TZID:America/New_York
BEGIN:DAYLIGHT
TZOFFSETFROM:-0500
TZOFFSETTO:-0400
TZNAME:EDT
DTSTART:20250309T070000
END:DAYLIGHT
BEGIN:STANDARD
TZOFFSETFROM:-0400
TZOFFSETTO:-0500
TZNAME:EST
DTSTART:20251102T060000
END:STANDARD
BEGIN:DAYLIGHT
TZOFFSETFROM:-0500
TZOFFSETTO:-0400
TZNAME:EDT
DTSTART:20260308T070000
END:DAYLIGHT
BEGIN:STANDARD
TZOFFSETFROM:-0400
TZOFFSETTO:-0500
TZNAME:EST
DTSTART:20261101T060000
END:STANDARD
BEGIN:DAYLIGHT
TZOFFSETFROM:-0500
TZOFFSETTO:-0400
TZNAME:EDT
DTSTART:20270314T070000
END:DAYLIGHT
BEGIN:STANDARD
TZOFFSETFROM:-0400
TZOFFSETTO:-0500
TZNAME:EST
DTSTART:20271107T060000
END:STANDARD
END:VTIMEZONE
BEGIN:VEVENT
DTSTART;TZID=America/New_York:20260607T160000
DTEND;TZID=America/New_York:20260607T180000
DTSTAMP:20260421T154447
CREATED:20260416T001216Z
LAST-MODIFIED:20260416T001216Z
UID:15080-1780848000-1780855200@westchesterdems.org
SUMMARY:Save the Date: Fundraiser for Michael Peppard\, Candidate for County Leg
DESCRIPTION:
URL:https://westchesterdems.org/westchester-democrats-events/save-the-date-fundraiser-for-michael-peppard-candidate-for-county-leg/
END:VEVENT
BEGIN:VEVENT
DTSTART;VALUE=DATE:20260613
DTEND;VALUE=DATE:20260622
DTSTAMP:20260421T154447
CREATED:20251216T210028Z
LAST-MODIFIED:20251216T210335Z
UID:14951-1781308800-1782086399@westchesterdems.org
SUMMARY:Early Voting for Primary Election
DESCRIPTION:Countywide Hours & Locations at  \nhttps://citizenparticipation.westchestergov.com/find-polling-place
URL:https://westchesterdems.org/westchester-democrats-events/primary-election/
END:VEVENT
BEGIN:VEVENT
DTSTART;TZID=America/New_York:20260614T120000
DTEND;TZID=America/New_York:20260614T160000
DTSTAMP:20260421T154447
CREATED:20260416T021600Z
LAST-MODIFIED:20260416T021600Z
UID:15095-1781438400-1781452800@westchesterdems.org
SUMMARY:Cortlandt Dems Flag Day Free Family BBQ
DESCRIPTION:Screenshot
URL:https://westchesterdems.org/westchester-democrats-events/cortlandt-dems-flag-day-free-family-bbq/
END:VEVENT
BEGIN:VEVENT
DTSTART;VALUE=DATE:20260616
DTEND;VALUE=DATE:20260617
DTSTAMP:20260421T154447
CREATED:20251216T205644Z
LAST-MODIFIED:20251216T205644Z
UID:14947-1781568000-1781654399@westchesterdems.org
SUMMARY:NYS School Board Election - Budget Revote
DESCRIPTION:2026 School Board Election – Critical Dates\n\nJune 16    Budget Revote (if applicable) \nPlease contact local school district for voting locations and hours.
URL:https://westchesterdems.org/westchester-democrats-events/nys-school-board-election-budget-revote/
END:VEVENT
BEGIN:VEVENT
DTSTART;TZID=America/New_York:20260623T060000
DTEND;TZID=America/New_York:20260623T210000
DTSTAMP:20260421T154447
CREATED:20260208T224657Z
LAST-MODIFIED:20260208T224657Z
UID:15021-1782194400-1782248400@westchesterdems.org
SUMMARY:Primary Election
DESCRIPTION:
URL:https://westchesterdems.org/westchester-democrats-events/primary-election-2/
END:VEVENT
END:VCALENDAR